BEGIN:VCALENDAR
VERSION:2.0
PRODID:-//ChamberMaster//Event Calendar 2.0//EN
METHOD:PUBLISH
X-PUBLISHED-TTL:P3D
REFRESH-INTERVAL:P3D
CALSCALE:GREGORIAN
BEGIN:VEVENT
DTSTART:20140905T230000Z
DTEND:20140906T060000Z
X-MICROSOFT-CDO-ALLDAYEVENT:FALSE
SUMMARY:Island Folk Festival
DESCRIPTION:Dozens of well known Austin & Kerrville Folk Festival artists will bring continuous music at these three great venues! Venders will offer a variety of merchandise throughout the 2 days of this first annual festival. Venders contact Aarin@Hartwellproductions.com
X-ALT-DESC;FMTTYPE=text/html:Dozens of well known Austin &amp\; Kerrville Folk Festival artists will bring continuous music at these three great venues! Venders will offer a variety of merchandise throughout the 2 days of this first annual festival. Venders contact Aarin@Hartwellproductions.com
LOCATION:Louie's Backyard\, Laguna Bob\, Tequila Sunset
UID:e.1294.30043
SEQUENCE:3
DTSTAMP:20260426T041045Z
URL:https://business.rgvpartnership.com/events/details/island-folk-festival-09-05-2014-30043
END:VEVENT

END:VCALENDAR
