BEGIN:VCALENDAR
VERSION:2.0
PRODID:-//ChamberMaster//Event Calendar 2.0//EN
METHOD:PUBLISH
X-PUBLISHED-TTL:P3D
REFRESH-INTERVAL:P3D
CALSCALE:GREGORIAN
BEGIN:VEVENT
DTSTART:20141122T160000Z
DTEND:20141122T170000Z
X-MICROSOFT-CDO-ALLDAYEVENT:FALSE
SUMMARY:Incredible Edible plants of South Texas
DESCRIPTION:Enjoy a great presentation by Esterban Bravo "Incredible Edible plants of South Texas". Coffee and pastries will be served.
X-ALT-DESC;FMTTYPE=text/html:Enjoy a great presentation by Esterban Bravo &quot\;Incredible Edible plants of South Texas&quot\;. Coffee and pastries will be served.
LOCATION:Valley Nature Center 301 South Border Ave. Weslaco\, Texas 78596
UID:e.1294.30111
SEQUENCE:3
DTSTAMP:20260426T010621Z
URL:https://business.rgvpartnership.com/events/details/incredible-edible-plants-of-south-texas-11-22-2014-30111
END:VEVENT

END:VCALENDAR
