BEGIN:VCALENDAR
VERSION:2.0
PRODID:-//ChamberMaster//Event Calendar 2.0//EN
METHOD:PUBLISH
X-PUBLISHED-TTL:P3D
REFRESH-INTERVAL:P3D
CALSCALE:GREGORIAN
BEGIN:VEVENT
DTSTART:20160910T150000Z
DTEND:20160910T180000Z
X-MICROSOFT-CDO-ALLDAYEVENT:FALSE
SUMMARY:Improving Birth: National Rally for Change: RGV
DESCRIPTION:We need women\, men and children to come stand in support of evidence-based maternity care for everyone 2016. The Rally will be held in locations all over the country as the launch to Empowered Birth Awareness Week. Visit with Birth Workers in the RGV and small business. Contact Nancy (local coordinator) at 866-684-4811 for more information. Join the Cause!
X-ALT-DESC;FMTTYPE=text/html:We need women\, men and children to come stand in support of evidence-based maternity care for everyone 2016. The Rally will be held in locations all over the country as the launch to Empowered Birth Awareness Week. Visit with Birth Workers in the RGV and small business. Contact Nancy (local coordinator) at 866-684-4811 for more information. Join the Cause!
LOCATION:McAllen Public Library 4001 N 23rd Street McAllen\, TX 78504
UID:e.1294.30287
SEQUENCE:3
DTSTAMP:20260424T143944Z
URL:https://business.rgvpartnership.com/events/details/improving-birth-national-rally-for-change-rgv-09-10-2016-30287
END:VEVENT

END:VCALENDAR
