BEGIN:VCALENDAR
VERSION:2.0
PRODID:-//ChamberMaster//Event Calendar 2.0//EN
METHOD:PUBLISH
X-PUBLISHED-TTL:P3D
REFRESH-INTERVAL:P3D
CALSCALE:GREGORIAN
BEGIN:VEVENT
DTSTART:20161204T013000Z
DTEND:20161204T030000Z
X-MICROSOFT-CDO-ALLDAYEVENT:FALSE
SUMMARY:Home for the Holidays
DESCRIPTION:Special Event Series
X-ALT-DESC;FMTTYPE=text/html:Special Event Series
LOCATION:TSC Arts Center 80 Fort Brown St. Brownsville\, TX. 78526
UID:e.1294.30330
SEQUENCE:3
DTSTAMP:20260424T102814Z
URL:https://business.rgvpartnership.com/events/details/home-for-the-holidays-12-03-2016-30330
END:VEVENT

END:VCALENDAR
