BEGIN:VCALENDAR
VERSION:2.0
PRODID:-//ChamberMaster//Event Calendar 2.0//EN
METHOD:PUBLISH
X-PUBLISHED-TTL:P3D
REFRESH-INTERVAL:P3D
CALSCALE:GREGORIAN
BEGIN:VEVENT
DTSTART:20140913T140000Z
DTEND:20140913T210000Z
X-MICROSOFT-CDO-ALLDAYEVENT:FALSE
SUMMARY:Home Buyer's Fair!
DESCRIPTION:Join Us for free seminars!\n\nThere will be Realtors\, lenders\, builders and more.
X-ALT-DESC;FMTTYPE=text/html:Join Us for free seminars!<br />\nThere will be Realtors\, lenders\, builders and more.
LOCATION:South Texas College Gym Weslaco\, TX
UID:e.1294.30032
SEQUENCE:3
DTSTAMP:20260426T040811Z
URL:https://business.rgvpartnership.com/events/details/home-buyer-s-fair-09-13-2014-30032
END:VEVENT

END:VCALENDAR
