BEGIN:VCALENDAR
VERSION:2.0
PRODID:-//ChamberMaster//Event Calendar 2.0//EN
METHOD:PUBLISH
X-PUBLISHED-TTL:P3D
REFRESH-INTERVAL:P3D
CALSCALE:GREGORIAN
BEGIN:VEVENT
DTSTART:20141031T223000Z
DTEND:20141101T030000Z
X-MICROSOFT-CDO-ALLDAYEVENT:FALSE
SUMMARY:Holy Spirit Catholic Church Fall Festival
DESCRIPTION:Fall Festival Its that time again for our Annual Fall Festival! Make plans to bring out your family for an evening of Fun\, Games\, Music\, Food\, Costume contest and much more? Costumes will be judged on creativity Reflecting Our Faith\, Funniest and most Original. May Include other categories.
X-ALT-DESC;FMTTYPE=text/html:Fall Festival Its that time again for our Annual Fall Festival! Make plans to bring out your family for an evening of Fun\, Games\, Music\, Food\, Costume contest and much more? Costumes will be judged on creativity Reflecting Our Faith\, Funniest and most Original. May Include other categories.
LOCATION:2201 Martin Ave. McAllen\, Texas
UID:e.1294.30094
SEQUENCE:3
DTSTAMP:20260426T024018Z
URL:https://business.rgvpartnership.com/events/details/holy-spirit-catholic-church-fall-festival-10-31-2014-30094
END:VEVENT

END:VCALENDAR
