BEGIN:VCALENDAR
VERSION:2.0
PRODID:-//ChamberMaster//Event Calendar 2.0//EN
METHOD:PUBLISH
X-PUBLISHED-TTL:P3D
REFRESH-INTERVAL:P3D
CALSCALE:GREGORIAN
BEGIN:VEVENT
DTSTART:20160402T210000Z
DTEND:20160403T000000Z
X-MICROSOFT-CDO-ALLDAYEVENT:FALSE
SUMMARY:Holy Family Services Birthday Party
DESCRIPTION:The Holy Family Birth Center 33rd Annual Birthday Party is being held on Saturday\, April 2nd from 4-7 in Weslaco Texas. There will be food\, cake\, games\, prizes and entrance is free. Everyone is invited! As an aside\, this may be the last year in 33 years that we celebrate\, as Holy Family is now considering closing it's doors after 33 years in service to the community. It has a unique history of service to the community as the oldest birth center in Texas founded by Sisters of Charity. Know for many years as "el centro de las monjitas"\, Holy Family has a history of helping those of little means and also those seeking a more natural birth experience. Please join us to celebrate all the births at Holy Family.
X-ALT-DESC;FMTTYPE=text/html:The Holy Family Birth Center 33rd Annual Birthday Party is being held on Saturday\, April 2nd from 4-7 in Weslaco Texas. There will be food\, cake\, games\, prizes and entrance is free. Everyone is invited! As an aside\, this may be the last year in 33 years that we celebrate\, as Holy Family is now considering closing it&#39\;s doors after 33 years in service to the community. It has a unique history of service to the community as the oldest birth center in Texas founded by Sisters of Charity. Know for many years as &quot\;el centro de las monjitas&quot\;\, Holy Family has a history of helping those of little means and also those seeking a more natural birth experience. Please join us to celebrate all the births at Holy Family.
LOCATION:Holy Family Services 5819 N FM 88 Weslaco\, TX 78599
UID:e.1294.30284
SEQUENCE:3
DTSTAMP:20260424T212521Z
URL:https://business.rgvpartnership.com/events/details/holy-family-services-birthday-party-04-02-2016-30284
END:VEVENT

END:VCALENDAR
