BEGIN:VCALENDAR
VERSION:2.0
PRODID:-//ChamberMaster//Event Calendar 2.0//EN
METHOD:PUBLISH
X-PUBLISHED-TTL:P3D
REFRESH-INTERVAL:P3D
CALSCALE:GREGORIAN
BEGIN:VEVENT
DTSTART:20151216T150000Z
DTEND:20160101T220000Z
X-MICROSOFT-CDO-ALLDAYEVENT:FALSE
SUMMARY:Habitat Tours of the Bayside and Bird Walks
DESCRIPTION:The Habitat Tour at Laguna Atascosa Enjoy a guided tour through the habitats of the refuge including thorn scrub forest\, coastal prairie\, wetlands\, and the scenic Laguna Madre. Discover the history of the refuge - both natural and cultural\, see how lands are being managed for wildlife\, and view the special wildlife that call deep south Texas home. Binoculars recommended. There will be 3-4 stops with short\, optional walks. Tickets Sold 1st come\, 1st served the day of the tour. Call 956-244-2019 for more information. Bird Walks at Laguna Atascosa Discover some of south Texas' specialty birds on a short\, easy walk around the visitor center. Wheelchair accessible. FREE with Entrance fee.
X-ALT-DESC;FMTTYPE=text/html:The Habitat Tour at Laguna Atascosa Enjoy a guided tour through the habitats of the refuge including thorn scrub forest\, coastal prairie\, wetlands\, and the scenic Laguna Madre. Discover the history of the refuge - both natural and cultural\, see how lands are being managed for wildlife\, and view the special wildlife that call deep south Texas home. Binoculars recommended. There will be 3-4 stops with short\, optional walks. Tickets Sold 1st come\, 1st served the day of the tour. Call 956-244-2019 for more information. Bird Walks at Laguna Atascosa Discover some of south Texas&#39\; specialty birds on a short\, easy walk around the visitor center. Wheelchair accessible. FREE with Entrance fee.
LOCATION:22688 Buena Vista Blvd\, Los Fresnos\, Texas 78566
UID:e.1294.30264
SEQUENCE:3
DTSTAMP:20260425T015826Z
URL:https://business.rgvpartnership.com/events/details/habitat-tours-of-the-bayside-and-bird-walks-12-16-2015-30264
END:VEVENT

END:VCALENDAR
