BEGIN:VCALENDAR
VERSION:2.0
PRODID:-//ChamberMaster//Event Calendar 2.0//EN
METHOD:PUBLISH
X-PUBLISHED-TTL:P3D
REFRESH-INTERVAL:P3D
CALSCALE:GREGORIAN
BEGIN:VEVENT
DTSTART:20141004T140000Z
DTEND:20141031T170000Z
X-MICROSOFT-CDO-ALLDAYEVENT:FALSE
SUMMARY:Habitat Tours of Bayside Drive at Laguna Atascosa NWR
DESCRIPTION:Enjoy a guided tour through the habitats of the refuge including thornscrub forest\, coastal prairie\, wetlands and the scenic Laguna Madre in our air conditioned bus or open-air tram. Discover the history of the refuge - both natural and cultural\, see how lands are being managed for wildlife\, and view the special wildlife that call deep south Texas home. Binoculars recommended. There will be two stops with short\, optional walks. Saturdays\, October 4&11 - 9:00am - 11:30am Fridays\, Saturdays\, Sundays\, starting October 12 - 9:00am - 12:00pm AND 1:00pm - 4:00pm Tickets $4 for adults (16+)\, $3.50 seniors (62+)\, under 16 free. Reservations required\, remaining seats will be sold the day of the tour. Call 956-748-3607 ext 111 to make your reservation. Children under age 8 will need a car seat provided. This vehicle is wheelchair accessible.
X-ALT-DESC;FMTTYPE=text/html:Enjoy a guided tour through the habitats of the refuge including thornscrub forest\, coastal prairie\, wetlands and the scenic Laguna Madre in our air conditioned bus or open-air tram. Discover the history of the refuge - both natural and cultural\, see how lands are being managed for wildlife\, and view the special wildlife that call deep south Texas home. Binoculars recommended. There will be two stops with short\, optional walks. Saturdays\, October 4&amp\;11 - 9:00am - 11:30am Fridays\, Saturdays\, Sundays\, starting October 12 - 9:00am - 12:00pm AND 1:00pm - 4:00pm Tickets $4 for adults (16+)\, $3.50 seniors (62+)\, under 16 free. Reservations required\, remaining seats will be sold the day of the tour. Call 956-748-3607 ext 111 to make your reservation. Children under age 8 will need a car seat provided. This vehicle is wheelchair accessible.
LOCATION:Laguna Atascosa National Wildlife Refuge
UID:e.1294.30081
SEQUENCE:3
DTSTAMP:20260426T024131Z
URL:https://business.rgvpartnership.com/events/details/habitat-tours-of-bayside-drive-at-laguna-atascosa-nwr-10-04-2014-30081
END:VEVENT

END:VCALENDAR
