BEGIN:VCALENDAR
VERSION:2.0
PRODID:-//ChamberMaster//Event Calendar 2.0//EN
METHOD:PUBLISH
X-PUBLISHED-TTL:P3D
REFRESH-INTERVAL:P3D
CALSCALE:GREGORIAN
BEGIN:VEVENT
DTSTART:20170105T143000Z
DTEND:20170331T163000Z
X-MICROSOFT-CDO-ALLDAYEVENT:FALSE
SUMMARY:Habitat Tour of the Bayside Drive
DESCRIPTION:Thursdays\, Fridays and Saturdays Enjoy a 3 hour guided tour in our open-air tram through the habitats of the refuge including thornscrub forest\, coastal prairie\, wetlands and the scenic Laguna Madre. Discover the history of the refuge   both natural and cultural\, see how lands are being managed for wildlife\, and view the special wildlife that call deep south Texas home. Binoculars recommended. There will be 3-4 stops with short\, optional walks. Tickets CASH or CHECK ONLY $4 for adults (16+)\, $3 seniors (62+)\, under 16 free. Tickets sold first come\, first served the day of the tour. Call 956-244-2019 for more information.
X-ALT-DESC;FMTTYPE=text/html:Thursdays\, Fridays and Saturdays Enjoy a 3 hour guided tour in our open-air tram through the habitats of the refuge including thornscrub forest\, coastal prairie\, wetlands and the scenic Laguna Madre. Discover the history of the refuge &ndash\; both natural and cultural\, see how lands are being managed for wildlife\, and view the special wildlife that call deep south Texas home. Binoculars recommended. There will be 3-4 stops with short\, optional walks. Tickets CASH or CHECK ONLY $4 for adults (16+)\, $3 seniors (62+)\, under 16 free. Tickets sold first come\, first served the day of the tour. Call 956-244-2019 for more information.
LOCATION:Laguna Atascosa National Wildlife Refuge 22688 Buena Vista Rd Los Fresnos\, TX 78566
UID:e.1294.30371
SEQUENCE:3
DTSTAMP:20260424T054804Z
URL:https://business.rgvpartnership.com/events/details/habitat-tour-of-the-bayside-drive-30371
END:VEVENT

END:VCALENDAR
