BEGIN:VCALENDAR
VERSION:2.0
PRODID:-//ChamberMaster//Event Calendar 2.0//EN
METHOD:PUBLISH
X-PUBLISHED-TTL:P3D
REFRESH-INTERVAL:P3D
CALSCALE:GREGORIAN
BEGIN:VEVENT
DTSTART:20170401T140000Z
DTEND:20170422T203000Z
X-MICROSOFT-CDO-ALLDAYEVENT:FALSE
SUMMARY:Habitat Tour of the Bayside Drive
DESCRIPTION:Saturdays 9   11:30 & 1   3:30 Enjoy a guided tour through the habitats of the refuge including thornscrub forest\, coastal prairie\, wetlands and the scenic Laguna Madre. Discover the history of the refuge   both natural and cultural\, see how lands are being managed for wildlife\, and view the special wildlife that call deep south Texas home. Binoculars recommended. There will be 2-3 stops with short\, optional walks. CASH or CHECK ONLY $4 for adults (16+)\, $3 seniors (62+)\, under 16 free. Reservations required. Call 956-748-3607 ext 111 for more information. Our shuttle bus is wheelchair accessible and air-conditioned.
X-ALT-DESC;FMTTYPE=text/html:Saturdays 9 &ndash\; 11:30 &amp\; 1 &ndash\; 3:30 Enjoy a guided tour through the habitats of the refuge including thornscrub forest\, coastal prairie\, wetlands and the scenic Laguna Madre. Discover the history of the refuge &ndash\; both natural and cultural\, see how lands are being managed for wildlife\, and view the special wildlife that call deep south Texas home. Binoculars recommended. There will be 2-3 stops with short\, optional walks. CASH or CHECK ONLY $4 for adults (16+)\, $3 seniors (62+)\, under 16 free. Reservations required. Call 956-748-3607 ext 111 for more information. Our shuttle bus is wheelchair accessible and air-conditioned.
LOCATION:Laguna Atascosa National Wildlife Refuge 22688 Buena Vista Rd Los Fresnos\, TX 78566
UID:e.1294.30384
SEQUENCE:3
DTSTAMP:20260424T041544Z
URL:https://business.rgvpartnership.com/events/details/habitat-tour-of-the-bayside-drive-04-01-2017-30384
END:VEVENT

END:VCALENDAR
