BEGIN:VCALENDAR
VERSION:2.0
PRODID:-//ChamberMaster//Event Calendar 2.0//EN
METHOD:PUBLISH
X-PUBLISHED-TTL:P3D
REFRESH-INTERVAL:P3D
CALSCALE:GREGORIAN
BEGIN:VEVENT
DTSTART:20140614T150000Z
DTEND:20140927T170000Z
X-MICROSOFT-CDO-ALLDAYEVENT:FALSE
SUMMARY:Habitat Tour of Bayside Drive at Laguna Atascosa National Wildlife Refuge
DESCRIPTION:Enjoy a guided tour through the habitats of the refuge including thornscrub forest\, coastal prairie\, wetlands and the scenic Laguna Madre in our air conditioned bus. Discover the history of the refuge - both natural and cultural\, see how lands are being managed for wildlife\, and view the special wildlife that call deep south Texas home. Binoculars recommended. There will be two stops with short\, optional walks. Every Saturday\, June-September 10:00am - 12:00pm Tickets $4 for adults (16+)\, $3.50 seniors (62+)\, under 16 free. Reservations required\, remaining seats will be sold the day of the tour. Call 956-748-3607 ext 111 to make your reservation. Children under age 8 will need a car seat provided. This vehicle is wheelchair accessible.
X-ALT-DESC;FMTTYPE=text/html:Enjoy a guided tour through the habitats of the refuge including thornscrub forest\, coastal prairie\, wetlands and the scenic Laguna Madre in our air conditioned bus. Discover the history of the refuge - both natural and cultural\, see how lands are being managed for wildlife\, and view the special wildlife that call deep south Texas home. Binoculars recommended. There will be two stops with short\, optional walks. Every Saturday\, June-September 10:00am - 12:00pm Tickets $4 for adults (16+)\, $3.50 seniors (62+)\, under 16 free. Reservations required\, remaining seats will be sold the day of the tour. Call 956-748-3607 ext 111 to make your reservation. Children under age 8 will need a car seat provided. This vehicle is wheelchair accessible.
LOCATION:Laguna Atascosa National Wildlife Refuge 22688 Buena Vista Blvd Los Fresnos\, TX 78566
UID:e.1294.29958
SEQUENCE:3
DTSTAMP:20260426T041057Z
URL:https://business.rgvpartnership.com/events/details/habitat-tour-of-bayside-drive-at-laguna-atascosa-national-wildlife-refuge-06-14-2014-29958
END:VEVENT

END:VCALENDAR
