BEGIN:VCALENDAR
VERSION:2.0
PRODID:-//ChamberMaster//Event Calendar 2.0//EN
METHOD:PUBLISH
X-PUBLISHED-TTL:P3D
REFRESH-INTERVAL:P3D
CALSCALE:GREGORIAN
BEGIN:VEVENT
DTSTART:20160307T190000Z
DTEND:20160331T210000Z
X-MICROSOFT-CDO-ALLDAYEVENT:FALSE
SUMMARY:Habitat Tour
DESCRIPTION:Habitat Tours 1:00 to 4:00 Daily & 9:00 to noon Saturdays Enjoy a guided tour in our climate controlled bus through the habitats of the refuge including thornscrub forest\, coastal prairie and the largest freshwater lake in Cameron County. Discover the history of the refuge ? both natural and cultural\, see how lands are being managed for wildlife\, and view the special wildlife that call deep south Texas home. Binoculars recommended. There will be 2-3 stops with short\, optional walks. Tickets CASH or CHECK ONLY $4 for adults (16+)\, $3 seniors (62+)\, under 16 free. Call 956-244-2019 to make a reservation.
X-ALT-DESC;FMTTYPE=text/html:Habitat Tours 1:00 to 4:00 Daily &amp\; 9:00 to noon Saturdays Enjoy a guided tour in our climate controlled bus through the habitats of the refuge including thornscrub forest\, coastal prairie and the largest freshwater lake in Cameron County. Discover the history of the refuge ? both natural and cultural\, see how lands are being managed for wildlife\, and view the special wildlife that call deep south Texas home. Binoculars recommended. There will be 2-3 stops with short\, optional walks. Tickets CASH or CHECK ONLY $4 for adults (16+)\, $3 seniors (62+)\, under 16 free. Call 956-244-2019 to make a reservation.
LOCATION:Laguna Atascosa National Wildlife Refuge.
UID:e.1294.30277
SEQUENCE:3
DTSTAMP:20260424T225909Z
URL:https://business.rgvpartnership.com/events/details/habitat-tour-03-07-2016-30277
END:VEVENT

END:VCALENDAR
