BEGIN:VCALENDAR
VERSION:2.0
PRODID:-//ChamberMaster//Event Calendar 2.0//EN
METHOD:PUBLISH
X-PUBLISHED-TTL:P3D
REFRESH-INTERVAL:P3D
CALSCALE:GREGORIAN
BEGIN:VEVENT
DTSTART:20150731T133000Z
DTEND:20150731T170000Z
X-MICROSOFT-CDO-ALLDAYEVENT:FALSE
SUMMARY:Growing Up WILD
DESCRIPTION:Educators (formal & informal)\, learn how to teach preschool aged children about their surroundings indoors and outdoors using fun\, hands-on\, educational activities. Activities are adaptable for all early childhood learners. This four-hour training workshop includes sampling of activities and a curriculum guide. Receive Growing Up WILD materials by participating in an interactive workshop designed to meet the needs of early childhood educators and caregivers. Participants receive SBEC and TEEAC continuing education credit hours and a GUW certificate. Please call ahead to register as space is limited. RR. DATE: Friday\, July 31\, 2015 TIME: 8:30 am - 12 pm FEE: $28 (fee includes snacks) For more information contact us at (956) 381-9922 or visit our website at www.EdinburgWBC.org
X-ALT-DESC;FMTTYPE=text/html:Educators (formal &amp\; informal)\, learn how to teach preschool aged children about their surroundings indoors and outdoors using fun\, hands-on\, educational activities. Activities are adaptable for all early childhood learners. This four-hour training workshop includes sampling of activities and a curriculum guide. Receive Growing Up WILD materials by participating in an interactive workshop designed to meet the needs of early childhood educators and caregivers. Participants receive SBEC and TEEAC continuing education credit hours and a GUW certificate. Please call ahead to register as space is limited. RR. DATE: Friday\, July 31\, 2015 TIME: 8:30 am - 12 pm FEE: $28 (fee includes snacks) For more information contact us at (956) 381-9922 or visit our website at www.EdinburgWBC.org
LOCATION:World Birding Center\, South Raul Longoria Road\, Edinburg\, TX\, United States
UID:e.1294.30198
SEQUENCE:3
DTSTAMP:20260425T102846Z
URL:https://business.rgvpartnership.com/events/details/growing-up-wild-07-31-2015-30198
END:VEVENT

END:VCALENDAR
