BEGIN:VCALENDAR
VERSION:2.0
PRODID:-//ChamberMaster//Event Calendar 2.0//EN
METHOD:PUBLISH
X-PUBLISHED-TTL:P3D
REFRESH-INTERVAL:P3D
CALSCALE:GREGORIAN
BEGIN:VEVENT
DTSTART:20161004T003000Z
DTEND:20161004T020000Z
X-MICROSOFT-CDO-ALLDAYEVENT:FALSE
SUMMARY:Gregory Sauer\, cello & Eric Jenkins\, piano
DESCRIPTION:Guest Artist Series
X-ALT-DESC;FMTTYPE=text/html:Guest Artist Series
LOCATION:TSC Arts Center 80 Fort Brown St. Brownsville\, TX.
UID:e.1294.30308
SEQUENCE:3
DTSTAMP:20260424T143832Z
URL:https://business.rgvpartnership.com/events/details/gregory-sauer-cello-eric-jenkins-piano-10-03-2016-30308
END:VEVENT

END:VCALENDAR
