BEGIN:VCALENDAR
VERSION:2.0
PRODID:-//ChamberMaster//Event Calendar 2.0//EN
METHOD:PUBLISH
X-PUBLISHED-TTL:P3D
REFRESH-INTERVAL:P3D
CALSCALE:GREGORIAN
BEGIN:VEVENT
DTSTART:20150411T130000Z
DTEND:20150411T160000Z
X-MICROSOFT-CDO-ALLDAYEVENT:FALSE
SUMMARY:Great Strides RGV Run/Walk for Cystic Fibrosis
DESCRIPTION:5K Run or 1.2 Mile Walk to raise funds for Cystic Fibrosis (CF)Foundation. CF is a genetic disease without a cure. It is the most common inherited condition among Americans of northern and western European ancestry. One in 30 Americans are carriers of the defective CF gene. A child of 2 carriers has a 1 in 4 change of inheriting CF. CF Foundation receives no direct federal funding for research. All money is raised via events like this. We have a population of RGV patients that rely on CF care centers for specialized care. Nearly 90 cents of every dollar raised supports the mission of the foundation to find a cure.
X-ALT-DESC;FMTTYPE=text/html:5K Run or 1.2 Mile Walk to raise funds for Cystic Fibrosis (CF)Foundation. CF is a genetic disease without a cure. It is the most common inherited condition among Americans of northern and western European ancestry. One in 30 Americans are carriers of the defective CF gene. A child of 2 carriers has a 1 in 4 change of inheriting CF. CF Foundation receives no direct federal funding for research. All money is raised via events like this. We have a population of RGV patients that rely on CF care centers for specialized care. Nearly 90 cents of every dollar raised supports the mission of the foundation to find a cure.
LOCATION:UPTA Wellness and Recreational Sports Center-615 North Sugar Road\, Edinburg.
UID:e.1294.30207
SEQUENCE:3
DTSTAMP:20260425T174246Z
URL:https://business.rgvpartnership.com/events/details/great-strides-rgv-run-walk-for-cystic-fibrosis-04-11-2015-30207
END:VEVENT

END:VCALENDAR
