BEGIN:VCALENDAR
VERSION:2.0
PRODID:-//ChamberMaster//Event Calendar 2.0//EN
METHOD:PUBLISH
X-PUBLISHED-TTL:P3D
REFRESH-INTERVAL:P3D
CALSCALE:GREGORIAN
BEGIN:VEVENT
DTSTART:20160303T233000Z
DTEND:20160303T233000Z
X-MICROSOFT-CDO-ALLDAYEVENT:FALSE
SUMMARY:Graduate Information Session
DESCRIPTION:Join us to learn more about pursuing a\n\nBachelor's\, Master's or Doctoral Degree\n\nAttend an Information Session   Thurs.\, Mar 3rd at 5:30 pm.\n\nOLLU offers Weekday\, Evening\, Weekend and Online Graduate Degree Programs \n\nDOCTORAL PROGRAMS \n\n          PhD   Leadership Studies  \n\nMASTER'S PROGRAMS INCLUDE\n\n          Business - MBA in Healthcare Management or Management   \n\n          Organizational Leadership \n\n          Social Work  \n\nBACHELOR'S PROGRAMS INCLUDE\n\n          Criminology & Criminal Justice \n\n          Psychology\n\n          Social Work\n\n          Computer Information Systems & Security\n\nLet us know if you are able to attend.\n\nRSVP online\n\nhttp://admissions.ollusa.edu/s/1190/hybrid/default-hybrid-ollu.aspx?sid=1190&gid=1&pgid=6703&cid=9599&post_id=0
X-ALT-DESC;FMTTYPE=text/html:<span style="font-size: 8.5pt\;"><span style="font-family: arial\,sans-serif\;"><span style="color: rgb(0\, 84\, 129)\;">Join us to learn more about pursuing a<br />\n<strong>Bachelor&#39\;s\, Master&rsquo\;s or Doctoral Degree</strong><br />\nAttend an Information Session</span></span></span>&nbsp\; <span style="font-family: calibri\;"><span style="padding: 0in\; border: 1pt windowtext\;"><span style="font-size: 12pt\;"><span style="color: rgb(31\, 73\, 125)\;">&nbsp\;Thurs.\, Mar 3<sup>rd</sup> at 5:30 pm.</span></span></span></span><br />\n<strong><span style="font-size: 8.5pt\;"><span style="font-family: arial\,sans-serif\;"><span style="color: rgb(0\, 84\, 129)\;">OLLU offers Weekday\, Evening\, Weekend and Online Graduate Degree Programs </span></span></span></strong><br />\n<strong><span style="font-size: 8.5pt\;"><span style="font-family: arial\,sans-serif\;"><span style="color: rgb(0\, 84\, 129)\;">DOCTORAL PROGRAMS </span></span></span></strong><br />\n<span style="font-size: 10pt\;"><span style="font-family: symbol\;"><span style="color: rgb(0\, 84\, 129)\;">&middot\;</span></span></span>&nbsp\;&nbsp\;&nbsp\;&nbsp\;&nbsp\;&nbsp\;&nbsp\;&nbsp\; <strong><span style="font-size: 8.5pt\;"><span style="font-family: arial\,sans-serif\;"><span style="color: rgb(0\, 84\, 129)\;">PhD</span></span></span></strong><span style="font-size: 8.5pt\;"><span style="font-family: arial\,sans-serif\;"><span style="color: rgb(0\, 84\, 129)\;"> &ndash\; Leadership Studies&nbsp\; </span></span></span><br />\n<strong><span style="font-size: 8.5pt\;"><span style="font-family: arial\,sans-serif\;"><span style="color: rgb(0\, 84\, 129)\;">MASTER&#39\;S PROGRAMS INCLUDE</span></span></span></strong><br />\n<span style="font-size: 10pt\;"><span style="font-family: symbol\;"><span style="color: rgb(0\, 84\, 129)\;">&middot\;</span></span></span>&nbsp\;&nbsp\;&nbsp\;&nbsp\;&nbsp\;&nbsp\;&nbsp\;&nbsp\; <strong><span style="font-size: 8.5pt\;"><span style="font-family: arial\,sans-serif\;"><span style="color: rgb(0\, 84\, 129)\;">Business</span></span></span></strong><span style="font-size: 8.5pt\;"><span style="font-family: arial\,sans-serif\;"><span style="color: rgb(0\, 84\, 129)\;"> - MBA in Healthcare Management or Management&nbsp\;&nbsp\;&nbsp\;</span></span></span><br />\n<span style="font-size: 10pt\;"><span style="font-family: symbol\;"><span style="color: rgb(0\, 84\, 129)\;">&middot\;</span></span></span>&nbsp\;&nbsp\;&nbsp\;&nbsp\;&nbsp\;&nbsp\;&nbsp\;&nbsp\; <strong><span style="font-size: 8.5pt\;"><span style="font-family: arial\,sans-serif\;"><span style="color: rgb(0\, 84\, 129)\;">Organizational Leadership</span></span></span></strong>&nbsp\;<br />\n<span style="font-size: 10pt\;"><span style="font-family: symbol\;"><span style="color: rgb(0\, 84\, 129)\;">&middot\;</span></span></span>&nbsp\;&nbsp\;&nbsp\;&nbsp\;&nbsp\;&nbsp\;&nbsp\;&nbsp\; <strong><span style="font-size: 8.5pt\;"><span style="font-family: arial\,sans-serif\;"><span style="color: rgb(0\, 84\, 129)\;">Social Work</span></span></span></strong>&nbsp\;&nbsp\;<br />\n<strong><span style="font-size: 8.5pt\;"><span style="font-family: arial\,sans-serif\;"><span style="color: rgb(0\, 84\, 129)\;">BACHELOR&#39\;S PROGRAMS INCLUDE</span></span></span></strong><br />\n<span style="font-size: 10pt\;"><span style="font-family: symbol\;"><span style="color: rgb(0\, 84\, 129)\;">&middot\;</span></span></span>&nbsp\;&nbsp\;&nbsp\;&nbsp\;&nbsp\;&nbsp\;&nbsp\;&nbsp\; <strong><span style="font-size: 8.5pt\;"><span style="font-family: arial\,sans-serif\;"><span style="color: rgb(0\, 84\, 129)\;">Criminology &amp\; Criminal Justice</span></span></span></strong>&nbsp\;<br />\n<span style="font-size: 10pt\;"><span style="font-family: symbol\;"><span style="color: rgb(0\, 84\, 129)\;">&middot\;</span></span></span>&nbsp\;&nbsp\;&nbsp\;&nbsp\;&nbsp\;&nbsp\;&nbsp\;&nbsp\; <strong><span style="font-size: 8.5pt\;"><span style="font-family: arial\,sans-serif\;"><span style="color: rgb(0\, 84\, 129)\;">Psychology</span></span></span></strong><br />\n<span style="font-size: 10pt\;"><span style="font-family: symbol\;"><span style="color: rgb(0\, 84\, 129)\;">&middot\;</span></span></span>&nbsp\;&nbsp\;&nbsp\;&nbsp\;&nbsp\;&nbsp\;&nbsp\;&nbsp\; <strong><span style="font-size: 8.5pt\;"><span style="font-family: arial\,sans-serif\;"><span style="color: rgb(0\, 84\, 129)\;">Social Work</span></span></span></strong><br />\n<span style="font-size: 10pt\;"><span style="font-family: symbol\;"><span style="color: rgb(0\, 84\, 129)\;">&middot\;</span></span></span>&nbsp\;&nbsp\;&nbsp\;&nbsp\;&nbsp\;&nbsp\;&nbsp\;&nbsp\; <strong><span style="font-size: 8.5pt\;"><span style="font-family: arial\,sans-serif\;"><span style="color: rgb(0\, 84\, 129)\;">Computer Information Systems &amp\; Security</span></span></span></strong><br />\n<strong><span style="font-size: 12pt\;"><span style="font-family: arial\,sans-serif\;"><span style="color: rgb(0\, 84\, 129)\;">Let us know if you are able to attend.<br />\nRSVP online</span></span></span></strong><br />\n<a href="http://admissions.ollusa.edu/s/1190/hybrid/default-hybrid-ollu.aspx?sid=1190&amp\;gid=1&amp\;pgid=6703&amp\;cid=9599&amp\;post_id=0">http://admissions.ollusa.edu/s/1190/hybrid/default-hybrid-ollu.aspx?sid=1190&amp\;gid=1&amp\;pgid=6703&amp\;cid=9599&amp\;post_id=0</a><br />\n<br />\n&nbsp\;
LOCATION:Our Lady of the Lake University 505 N. Villarreal St. La Feria\, TX 78559
UID:e.1294.30275
SEQUENCE:3
DTSTAMP:20260424T225745Z
URL:https://business.rgvpartnership.com/events/details/graduate-information-session-03-03-2016-30275
END:VEVENT

END:VCALENDAR
