BEGIN:VCALENDAR
VERSION:2.0
PRODID:-//ChamberMaster//Event Calendar 2.0//EN
METHOD:PUBLISH
X-PUBLISHED-TTL:P3D
REFRESH-INTERVAL:P3D
CALSCALE:GREGORIAN
BEGIN:VEVENT
DTSTART:20141213T160000Z
DTEND:20141213T183000Z
X-MICROSOFT-CDO-ALLDAYEVENT:FALSE
SUMMARY:Grace Heritage Ranch Tour
DESCRIPTION:Howdy! We are the Schalks - a Christian homeschooling family who would like to introduce you to homesteading ranch life. At GHR\, we offer unique educational tours of our 100-acre homestead in Santa Monica\, TX. We have an ever-increasing passion for sharing the wonderful things we are learning\, doing\, growing\, and enjoying out here\, so come on out to experience it with us! See how we raise and naturally pasture our heritage breeds of animals. Learn how to organically grow heirloom varieties of fruits and vegetables. Ask us how we work our land with simple hand tools. Spin some cotton into yarn. You will get a glimpse of life on a homesteading ranch and have the opportunity to learn some new skills gleaned from the past. Remember to bring your camera! You'll make some unforgettable memories as you begin to write a history of your own. We hope to see you out here real soon! Plan on staying for about 2   hours. Santa Monica\, TX is located just 30 minutes N.E. of Harlingen. See www.GraceHeritageRanch.com for more tour information and directions.
X-ALT-DESC;FMTTYPE=text/html:Howdy! We are the Schalks - a Christian homeschooling family who would like to introduce you to homesteading ranch life. At GHR\, we offer unique educational tours of our 100-acre homestead in Santa Monica\, TX. We have an ever-increasing passion for sharing the wonderful things we are learning\, doing\, growing\, and enjoying out here\, so come on out to experience it with us! See how we raise and naturally pasture our heritage breeds of animals. Learn how to organically grow heirloom varieties of fruits and vegetables. Ask us how we work our land with simple hand tools. Spin some cotton into yarn. You will get a glimpse of life on a homesteading ranch and have the opportunity to learn some new skills gleaned from the past. Remember to bring your camera! You&#39\;ll make some unforgettable memories as you begin to write a history of your own. We hope to see you out here real soon! Plan on staying for about 2 &frac12\; hours. Santa Monica\, TX is located just 30 minutes N.E. of Harlingen. See www.GraceHeritageRanch.com for more tour information and directions.
LOCATION:27539 Old Alice Rd\, Santa Monica\, TX - Just 30 minutes N.E. of Harlingen
UID:e.1294.30122
SEQUENCE:3
DTSTAMP:20260426T010231Z
URL:https://business.rgvpartnership.com/events/details/grace-heritage-ranch-tour-12-13-2014-30122
END:VEVENT

END:VCALENDAR
