BEGIN:VCALENDAR
VERSION:2.0
PRODID:-//ChamberMaster//Event Calendar 2.0//EN
METHOD:PUBLISH
X-PUBLISHED-TTL:P3D
REFRESH-INTERVAL:P3D
CALSCALE:GREGORIAN
BEGIN:VEVENT
DTSTART:20141025T140000Z
DTEND:20141025T220000Z
X-MICROSOFT-CDO-ALLDAYEVENT:FALSE
SUMMARY:Goodwill Cook Off
DESCRIPTION:Goodwill Cook Off This October Goodwill will be hosting the inaugural Goodwill Cook-Off at Dixieland Park in Harlingen\, Texas. The International Barbecue Cookers Association sanctioned event is going to be a great family event with live music\, vendors\, Sponsor activities and the best barbecue in Texas. We are expecting cooking teams from the entire Rio Grande Valley and surrounding cities competing for best cooked brisket\, pork Spare ribs\, and chicken. All funds raised will benefit Goodwill's job training and job placement programs\, serving people South Texans with disabilities\, veterans\, at risk youth\, and the homeless. Bring your best barbecue cooks to compete and your friends and family to enjoy the entertainment and judge some of the best grilled food in South Texas.
X-ALT-DESC;FMTTYPE=text/html:Goodwill Cook Off This October Goodwill will be hosting the inaugural Goodwill Cook-Off at Dixieland Park in Harlingen\, Texas. The International Barbecue Cookers Association sanctioned event is going to be a great family event with live music\, vendors\, Sponsor activities and the best barbecue in Texas. We are expecting cooking teams from the entire Rio Grande Valley and surrounding cities competing for best cooked brisket\, pork Spare ribs\, and chicken. All funds raised will benefit Goodwill&#39\;s job training and job placement programs\, serving people South Texans with disabilities\, veterans\, at risk youth\, and the homeless. Bring your best barbecue cooks to compete and your friends and family to enjoy the entertainment and judge some of the best grilled food in South Texas.
LOCATION:Dixieland Park 2501 S. Dixieland Rd Harlingen\,Texas 78552
UID:e.1294.30070
SEQUENCE:3
DTSTAMP:20260426T023521Z
URL:https://business.rgvpartnership.com/events/details/goodwill-cook-off-10-25-2014-30070
END:VEVENT

END:VCALENDAR
