BEGIN:VCALENDAR
VERSION:2.0
PRODID:-//ChamberMaster//Event Calendar 2.0//EN
METHOD:PUBLISH
X-PUBLISHED-TTL:P3D
REFRESH-INTERVAL:P3D
CALSCALE:GREGORIAN
BEGIN:VEVENT
DTSTART:20150515T230000Z
DTEND:20150516T000000Z
X-MICROSOFT-CDO-ALLDAYEVENT:FALSE
SUMMARY:Friday Night With A Naturalist
DESCRIPTION:Join us and some of the best naturalists and nature enthusiasts in the valley for wonderful family programs this summer! The third Friday of each month\, EWBC invites different speakers to share their knowledge of birds\, butterflies\, plants and more! Program and admission are FREE! Doors open at 5:30 p.m. and presentations are from 6 p.m. to 7 p.m. RR. Speaker: Allen Williams Topic: Water Features For more information\, please call us at (956) 381-9922 or visit us online at www.EdinburgWBC.org
X-ALT-DESC;FMTTYPE=text/html:Join us and some of the best naturalists and nature enthusiasts in the valley for wonderful family programs this summer! The third Friday of each month\, EWBC invites different speakers to share their knowledge of birds\, butterflies\, plants and more! Program and admission are FREE! Doors open at 5:30 p.m. and presentations are from 6 p.m. to 7 p.m. RR. Speaker: Allen Williams Topic: Water Features For more information\, please call us at (956) 381-9922 or visit us online at www.EdinburgWBC.org
LOCATION:Edinburg Scenic Wetlands & World Birding Center. 714 Raul Longoria RD\, Edinburg TX 78542
UID:e.1294.30185
SEQUENCE:3
DTSTAMP:20260425T161226Z
URL:https://business.rgvpartnership.com/events/details/friday-night-with-a-naturalist-05-15-2015-30185
END:VEVENT

END:VCALENDAR
