BEGIN:VCALENDAR
VERSION:2.0
PRODID:-//ChamberMaster//Event Calendar 2.0//EN
METHOD:PUBLISH
X-PUBLISHED-TTL:P3D
REFRESH-INTERVAL:P3D
CALSCALE:GREGORIAN
BEGIN:VEVENT
DTSTART:20150620T011500Z
DTEND:20150829T021500Z
X-MICROSOFT-CDO-ALLDAYEVENT:FALSE
SUMMARY:Friday Night Hike
DESCRIPTION:Enjoy a summer evening with the creatures of the night! Bring a flashlight\, bug spray\, and wear close-toed shoes. Bring a flashlight if you have one. We?ll look for spiders\, bats\, frogs\, toads\, nocturnal birds including pauraques and nighthawks. If we get lucky we might see a snake or an owl! Each week is a new adventure.
X-ALT-DESC;FMTTYPE=text/html:Enjoy a summer evening with the creatures of the night! Bring a flashlight\, bug spray\, and wear close-toed shoes. Bring a flashlight if you have one. We?ll look for spiders\, bats\, frogs\, toads\, nocturnal birds including pauraques and nighthawks. If we get lucky we might see a snake or an owl! Each week is a new adventure.
LOCATION:McAllen Nature Center
UID:e.1294.30232
SEQUENCE:3
DTSTAMP:20260424T101147Z
URL:https://business.rgvpartnership.com/events/details/friday-night-hike-06-19-2015-30232
END:VEVENT

END:VCALENDAR
