BEGIN:VCALENDAR
VERSION:2.0
PRODID:-//ChamberMaster//Event Calendar 2.0//EN
METHOD:PUBLISH
X-PUBLISHED-TTL:P3D
REFRESH-INTERVAL:P3D
CALSCALE:GREGORIAN
BEGIN:VEVENT
DTSTART:20141004T000000Z
DTEND:20141005T030000Z
X-MICROSOFT-CDO-ALLDAYEVENT:FALSE
SUMMARY:FREE Concerts on the Bay
DESCRIPTION:FREE Concert Series continues Friday & Saturday nights this Fall in the entertainment district! Bring your family\, beach chair and friends! Spend an evening enjoying live music sponsored by the SPI Convention & Visitors Bureau. 7pm-Britny Lobas and Red Coral 8:30pm-Billy Joe Shaver
X-ALT-DESC;FMTTYPE=text/html:FREE Concert Series continues Friday &amp\; Saturday nights this Fall in the entertainment district! Bring your family\, beach chair and friends! Spend an evening enjoying live music sponsored by the SPI Convention &amp\; Visitors Bureau. 7pm-Britny Lobas and Red Coral 8:30pm-Billy Joe Shaver
LOCATION:Laguna @ Pike Street
UID:e.1294.30048
SEQUENCE:3
DTSTAMP:20260426T040939Z
URL:https://business.rgvpartnership.com/events/details/free-concerts-on-the-bay-10-03-2014-30048
END:VEVENT

END:VCALENDAR
