BEGIN:VCALENDAR
VERSION:2.0
PRODID:-//ChamberMaster//Event Calendar 2.0//EN
METHOD:PUBLISH
X-PUBLISHED-TTL:P3D
REFRESH-INTERVAL:P3D
CALSCALE:GREGORIAN
BEGIN:VEVENT
DTSTART:20140927T000000Z
DTEND:20140927T030000Z
X-MICROSOFT-CDO-ALLDAYEVENT:FALSE
SUMMARY:FREE Concerts on the Bay
DESCRIPTION:FREE Concert Series continues Friday & Saturday nights this Fall in the entertainment district! Bring your family\, beach chair and friends! Spend an evening enjoying live music sponsored by the SPI Convention & Visitors Bureau. 7pm-Brett McCormick Band 8:30pm-Podunk
X-ALT-DESC;FMTTYPE=text/html:FREE Concert Series continues Friday &amp\; Saturday nights this Fall in the entertainment district! Bring your family\, beach chair and friends! Spend an evening enjoying live music sponsored by the SPI Convention &amp\; Visitors Bureau. 7pm-Brett McCormick Band 8:30pm-Podunk
LOCATION:Laguna@Pike Street
UID:e.1294.30046
SEQUENCE:3
DTSTAMP:20260426T040945Z
URL:https://business.rgvpartnership.com/events/details/free-concerts-on-the-bay-09-26-2014-30046
END:VEVENT

END:VCALENDAR
