BEGIN:VCALENDAR
VERSION:2.0
PRODID:-//ChamberMaster//Event Calendar 2.0//EN
METHOD:PUBLISH
X-PUBLISHED-TTL:P3D
REFRESH-INTERVAL:P3D
CALSCALE:GREGORIAN
BEGIN:VEVENT
DTSTART:20150124T140000Z
DTEND:20150124T180000Z
X-MICROSOFT-CDO-ALLDAYEVENT:FALSE
SUMMARY:Free Community Health Fair
DESCRIPTION:Start your year off right at the 9th Annual Doctors Hospital at Renaissance Community Health Fair on Saturday\, January 24th at the Edinburg Conference Center at Renaissance. Come take advantage of free health screenings and information about cholesterol\, diabetes\, blood pressure\, glucose\, vision\, medical weight loss\, women?s health\, dental\, and much more! Plus door prizes\, car seat inspections\, and a fresh produce market. The 9th Annual DHR Community Health Fair is open to the public and free of charge. For more information call 956-362-3140.
X-ALT-DESC;FMTTYPE=text/html:Start your year off right at the 9th Annual Doctors Hospital at Renaissance Community Health Fair on Saturday\, January 24th at the Edinburg Conference Center at Renaissance. Come take advantage of free health screenings and information about cholesterol\, diabetes\, blood pressure\, glucose\, vision\, medical weight loss\, women?s health\, dental\, and much more! Plus door prizes\, car seat inspections\, and a fresh produce market. The 9th Annual DHR Community Health Fair is open to the public and free of charge. For more information call 956-362-3140.
LOCATION:Edinburg Conference Center at Renaissance
UID:e.1294.30144
SEQUENCE:3
DTSTAMP:20260425T220129Z
URL:https://business.rgvpartnership.com/events/details/free-community-health-fair-01-24-2015-30144
END:VEVENT

END:VCALENDAR
