BEGIN:VCALENDAR
VERSION:2.0
PRODID:-//ChamberMaster//Event Calendar 2.0//EN
METHOD:PUBLISH
X-PUBLISHED-TTL:P3D
REFRESH-INTERVAL:P3D
CALSCALE:GREGORIAN
BEGIN:VEVENT
DTSTART:20141231T010000Z
DTEND:20141231T023000Z
X-MICROSOFT-CDO-ALLDAYEVENT:FALSE
SUMMARY:FREE ADULT DANCE CLASS
DESCRIPTION:Hello\, Come and join us for our FREE dance class on December 30th at 7 PM. We will be instructing a dance presented in Vienna\, Austria during the New Years Eve the Viennese waltz. Its the perfect dance class for any beginner or intermediate dancer. After the practice we will be having a social gathering to celebrate the New Year. Feel free to bring any beverages and appetizers to your liking. Feel free to invite your family and friends to our free classes on the 30th of December. Feel free to share message with anyone interested in taking the class. Thank you\,
X-ALT-DESC;FMTTYPE=text/html:Hello\, Come and join us for our FREE dance class on December 30th at 7 PM. We will be instructing a dance presented in Vienna\, Austria during the New Years Eve the Viennese waltz. Its the perfect dance class for any beginner or intermediate dancer. After the practice we will be having a social gathering to celebrate the New Year. Feel free to bring any beverages and appetizers to your liking. Feel free to invite your family and friends to our free classes on the 30th of December. Feel free to share message with anyone interested in taking the class. Thank you\,
LOCATION:4320 N. Bicentennial Ave. (behind the McAllen Museum) McAllen\, TX 78504 United States
UID:e.1294.30128
SEQUENCE:3
DTSTAMP:20260425T232245Z
URL:https://business.rgvpartnership.com/events/details/free-adult-dance-class-12-30-2014-30128
END:VEVENT

END:VCALENDAR
