BEGIN:VCALENDAR
VERSION:2.0
PRODID:-//ChamberMaster//Event Calendar 2.0//EN
METHOD:PUBLISH
X-PUBLISHED-TTL:P3D
REFRESH-INTERVAL:P3D
CALSCALE:GREGORIAN
BEGIN:VEVENT
DTSTART:20150606T140000Z
DTEND:20150606T170000Z
X-MICROSOFT-CDO-ALLDAYEVENT:FALSE
SUMMARY:Free AARP Shredding Event in Brownsville to help prevent ID theft
DESCRIPTION:BROWNSVILLE\, Texas ? Every day millions of Americans lose their hard earned money to identity theft\, investment fraud\, and other types of scams. This crime can damage credit scores and cost valuable time and money. With the scammer's busy thinking up new ways to steal your money\, how can you protect yourself and your family? AARP recognizes the dangers\, which is why we are holding a free shredding event. The event is open to the public and will be held Saturday\, June 6 from 9 a.m. to 12 p.m. at Brownsville Scrap Paper\, 5850 FM 511 in Brownsville. There is a limit of 3 boxes per car.
X-ALT-DESC;FMTTYPE=text/html:BROWNSVILLE\, Texas ? Every day millions of Americans lose their hard earned money to identity theft\, investment fraud\, and other types of scams. This crime can damage credit scores and cost valuable time and money. With the scammer&#39\;s busy thinking up new ways to steal your money\, how can you protect yourself and your family? AARP recognizes the dangers\, which is why we are holding a free shredding event. The event is open to the public and will be held Saturday\, June 6 from 9 a.m. to 12 p.m. at Brownsville Scrap Paper\, 5850 FM 511 in Brownsville. There is a limit of 3 boxes per car.
LOCATION:Brownsville Scrap Paper\, 5850 FM 511\, Brownsville
UID:e.1294.30230
SEQUENCE:3
DTSTAMP:20260425T144039Z
URL:https://business.rgvpartnership.com/events/details/free-aarp-shredding-event-in-brownsville-to-help-prevent-id-theft-06-06-2015-30230
END:VEVENT

END:VCALENDAR
