BEGIN:VCALENDAR
VERSION:2.0
PRODID:-//ChamberMaster//Event Calendar 2.0//EN
METHOD:PUBLISH
X-PUBLISHED-TTL:P3D
REFRESH-INTERVAL:P3D
CALSCALE:GREGORIAN
BEGIN:VEVENT
DTSTART;VALUE=DATE:20180407
DTEND;VALUE=DATE:20180409
TRANSP:TRANSPARENT
X-MICROSOFT-CDO-ALLDAYEVENT:TRUE
SUMMARY:Folklorico/Mariachi - La Joya Juarez-Lincoln High School
DESCRIPTION:La Joya Juarez-Lincoln High School Presents: Mariachi Sol de Oro y Grupo Folklorico Sol Azteca
X-ALT-DESC;FMTTYPE=text/html:La Joya Juarez-Lincoln High School Presents: Mariachi Sol de Oro y Grupo Folklorico Sol Azteca
LOCATION:Alejandro "Alex" H. Saenz Performing Arts Center - 601 Coyote Drive\, La Joya\, TX 78560
UID:e.1294.30411
SEQUENCE:3
DTSTAMP:20260423T112225Z
URL:https://business.rgvpartnership.com/events/details/folklorico-mariachi-la-joya-juarez-lincoln-high-school-30411
END:VEVENT

END:VCALENDAR
