BEGIN:VCALENDAR
VERSION:2.0
PRODID:-//ChamberMaster//Event Calendar 2.0//EN
METHOD:PUBLISH
X-PUBLISHED-TTL:P3D
REFRESH-INTERVAL:P3D
CALSCALE:GREGORIAN
BEGIN:VEVENT
DTSTART;VALUE=DATE:20180303
DTEND;VALUE=DATE:20180305
TRANSP:TRANSPARENT
X-MICROSOFT-CDO-ALLDAYEVENT:TRUE
SUMMARY:Folklorico/Mariachi - La Joya High School
DESCRIPTION:La Joya High School Presents: Mariachi Los Coyotes y Grupo Tabasco - Orgullo y Tradicion
X-ALT-DESC;FMTTYPE=text/html:La Joya High School Presents: Mariachi Los Coyotes y Grupo Tabasco - Orgullo y Tradicion
LOCATION:Alejando "Alex" H. Saenz Performing Arts Center - 604 Coyote Drive\, La Joya\, Texas 78560
UID:e.1294.30410
SEQUENCE:3
DTSTAMP:20260423T124917Z
URL:https://business.rgvpartnership.com/events/details/folklorico-mariachi-la-joya-high-school-30410
END:VEVENT

END:VCALENDAR
