BEGIN:VCALENDAR
VERSION:2.0
PRODID:-//ChamberMaster//Event Calendar 2.0//EN
METHOD:PUBLISH
X-PUBLISHED-TTL:P3D
REFRESH-INTERVAL:P3D
CALSCALE:GREGORIAN
BEGIN:VEVENT
DTSTART:20150614T153000Z
DTEND:20150830T163000Z
X-MICROSOFT-CDO-ALLDAYEVENT:FALSE
SUMMARY:Family Nature Program
DESCRIPTION:Bring the whole family and enjoy nature together! We feature a different activity each week. Topics include flowers\, photography\, birds\, leaves\, bugs\, and more!
X-ALT-DESC;FMTTYPE=text/html:Bring the whole family and enjoy nature together! We feature a different activity each week. Topics include flowers\, photography\, birds\, leaves\, bugs\, and more!
LOCATION:McAllen Nature Center 4101 W Business 83\, McAllen
UID:e.1294.30236
SEQUENCE:3
DTSTAMP:20260424T100527Z
URL:https://business.rgvpartnership.com/events/details/family-nature-program-06-14-2015-30236
END:VEVENT

END:VCALENDAR
