BEGIN:VCALENDAR
VERSION:2.0
PRODID:-//ChamberMaster//Event Calendar 2.0//EN
METHOD:PUBLISH
X-PUBLISHED-TTL:P3D
REFRESH-INTERVAL:P3D
CALSCALE:GREGORIAN
BEGIN:VEVENT
DTSTART:20150411T140000Z
DTEND:20150411T200000Z
X-MICROSOFT-CDO-ALLDAYEVENT:FALSE
SUMMARY:Family Fish Camp
DESCRIPTION:Family Fish Camp at Adolph Thomae\, Jr. County Park Saturday\, April 11\, 2015 from 9am-3pm Experienced anglers from Fishings' Future and the US Fish and Wildlife Service will be on hand to teach children and their parents the basics of fishing. Children between the ages of 6&16 will have a great time while practicing their fishing skills and learning important tips. The free camp\, sponsored by Laguna Atascosa National Wildlife Refuge\, includes: Fish Identification Catch & release techniques Types of fishing gear Knot-tying Bait\, lures and bobber fishing skills Leave No Trace principles Water safety & Texas fishing regulations The program includes all fishing equipment\, free fishing gifts and Junior Angler certificates for those who complete the entire camp. Free lunch is included. Space is limited so visit www.fishingsfuture.org to register online. For more information visit www.co.cameron.tx.us/parks/thomae_park.htm or www.fws.refuge/laguna_atascosa.
X-ALT-DESC;FMTTYPE=text/html:Family Fish Camp at Adolph Thomae\, Jr. County Park Saturday\, April 11\, 2015 from 9am-3pm Experienced anglers from Fishings&#39\; Future and the US Fish and Wildlife Service will be on hand to teach children and their parents the basics of fishing. Children between the ages of 6&amp\;16 will have a great time while practicing their fishing skills and learning important tips. The free camp\, sponsored by Laguna Atascosa National Wildlife Refuge\, includes: Fish Identification Catch &amp\; release techniques Types of fishing gear Knot-tying Bait\, lures and bobber fishing skills Leave No Trace principles Water safety &amp\; Texas fishing regulations The program includes all fishing equipment\, free fishing gifts and Junior Angler certificates for those who complete the entire camp. Free lunch is included. Space is limited so visit www.fishingsfuture.org to register online. For more information visit www.co.cameron.tx.us/parks/thomae_park.htm or www.fws.refuge/laguna_atascosa.
LOCATION:Adolph Thomae\, Jr. County Park 37844 Marshall Hutts Rd Arroyo City\, TX 78583
UID:e.1294.30211
SEQUENCE:3
DTSTAMP:20260425T173356Z
URL:https://business.rgvpartnership.com/events/details/family-fish-camp-04-11-2015-30211
END:VEVENT

END:VCALENDAR
