BEGIN:VCALENDAR
VERSION:2.0
PRODID:-//ChamberMaster//Event Calendar 2.0//EN
METHOD:PUBLISH
X-PUBLISHED-TTL:P3D
REFRESH-INTERVAL:P3D
CALSCALE:GREGORIAN
BEGIN:VEVENT
DTSTART;VALUE=DATE:20161008
DTEND;VALUE=DATE:20161106
TRANSP:TRANSPARENT
X-MICROSOFT-CDO-ALLDAYEVENT:TRUE
SUMMARY:EXHIBITION OPENING UPPER VALLEY ART LEAGUE
DESCRIPTION:The Upper Valley Art League presents its annual Members' Exhibition. The exhibit opens with a reception on Oct. 8 from 7-9. Everyone will be able to find artwork they like because there will be a variety of styles\, mediums and concepts.  You will have an opportunity to meet exhibiting artists and ask questions about the artwork at the opening.  Enjoy refreshments while you chat or check out our gift shop.
X-ALT-DESC;FMTTYPE=text/html:The Upper Valley Art League presents its annual Members&rsquo\; Exhibition. The exhibit opens with a reception on Oct. 8 from 7-9. Everyone will be able to find artwork they like because there will be a variety of styles\, mediums and concepts. &nbsp\;You will have an opportunity to meet exhibiting artists and ask questions about the artwork at the opening. &nbsp\;Enjoy refreshments while you chat or check out our gift shop. &nbsp\;
LOCATION:Kika de la Garza Fine Art Center\, 921 E. 12th St.\, Mission\, TX.
UID:e.1294.30365
SEQUENCE:3
DTSTAMP:20260424T114109Z
URL:https://business.rgvpartnership.com/events/details/exhibition-opening-upper-valley-art-league-30365
END:VEVENT

END:VCALENDAR
