BEGIN:VCALENDAR
VERSION:2.0
PRODID:-//ChamberMaster//Event Calendar 2.0//EN
METHOD:PUBLISH
X-PUBLISHED-TTL:P3D
REFRESH-INTERVAL:P3D
CALSCALE:GREGORIAN
BEGIN:VEVENT
DTSTART:20150207T160000Z
DTEND:20150207T170000Z
X-MICROSOFT-CDO-ALLDAYEVENT:FALSE
SUMMARY:El Mesteno Ranch with Camille Smith
DESCRIPTION:Camille Smith Has a very special ranch presentation planned for us. February 7\, 2015 10:00am Please plan to attend and bring a friend. Start your Saturday morning at Valley Nature Center 301 South Border ave. Weslaco\, TX 956-969-2475 Coffee and pastries will be served\, see you there!
X-ALT-DESC;FMTTYPE=text/html:Camille Smith Has a very special ranch presentation planned for us. February 7\, 2015 10:00am Please plan to attend and bring a friend. Start your Saturday morning at Valley Nature Center 301 South Border ave. Weslaco\, TX 956-969-2475 Coffee and pastries will be served\, see you there!
LOCATION:Valley Nature Center 301 South Border Ave. Weslaco\, Texas 78596
UID:e.1294.30138
SEQUENCE:3
DTSTAMP:20260425T202510Z
URL:https://business.rgvpartnership.com/events/details/el-mesteno-ranch-with-camille-smith-02-07-2015-30138
END:VEVENT

END:VCALENDAR
