BEGIN:VCALENDAR
VERSION:2.0
PRODID:-//ChamberMaster//Event Calendar 2.0//EN
METHOD:PUBLISH
X-PUBLISHED-TTL:P3D
REFRESH-INTERVAL:P3D
CALSCALE:GREGORIAN
BEGIN:VEVENT
DTSTART:20160813T140000Z
DTEND:20160813T223000Z
X-MICROSOFT-CDO-ALLDAYEVENT:FALSE
SUMMARY:Edinburg UFO Conference
DESCRIPTION:The Rio Grande Valley has long been known for strange paranormal events\, including several dramatic UFO cases\, to be highlighted during the 5th Annual Edinburg UFO Conference on Saturday\, August 13\, 2016\, at the Edinburg Conference Center at Renaissance\, 118 Paseo del Prado. Special guest speakers include television's David Childress of "Ancient Aliens" and Ben Hansen of "Fact or Faked: Paranormal Files." Sponsored by Edinburg's Sekula Memorial Library and Edinburg Arts\, proceeds from the event are used to promote the arts and literacy. General admission tickets are $25 and may be obtained online at http://EdinburgArts.com.
X-ALT-DESC;FMTTYPE=text/html:The Rio Grande Valley has long been known for strange paranormal events\, including several dramatic UFO cases\, to be highlighted during the 5th Annual Edinburg UFO Conference on Saturday\, August 13\, 2016\, at the Edinburg Conference Center at Renaissance\, 118 Paseo del Prado. Special guest speakers include television&rsquo\;s David Childress of &quot\;Ancient Aliens&quot\; and Ben Hansen of &quot\;Fact or Faked: Paranormal Files.&quot\; Sponsored by Edinburg&rsquo\;s Sekula Memorial Library and Edinburg Arts\, proceeds from the event are used to promote the arts and literacy. General admission tickets are $25 and may be obtained online at http://EdinburgArts.com.
LOCATION:Edinburg Conference Center at Renaissance\, 118 Paseo del Prado
UID:e.1294.30304
SEQUENCE:3
DTSTAMP:20260424T160025Z
URL:https://business.rgvpartnership.com/events/details/edinburg-ufo-conference-08-13-2016-30304
END:VEVENT

END:VCALENDAR
