BEGIN:VCALENDAR
VERSION:2.0
PRODID:-//ChamberMaster//Event Calendar 2.0//EN
METHOD:PUBLISH
X-PUBLISHED-TTL:P3D
REFRESH-INTERVAL:P3D
CALSCALE:GREGORIAN
BEGIN:VEVENT
DTSTART:20150208T220000Z
DTEND:20150208T230000Z
X-MICROSOFT-CDO-ALLDAYEVENT:FALSE
SUMMARY:Edinburg Folklorio
DESCRIPTION:We are the Edinburg Folklorico Dance Team. We have achieved a reputation throughout the dance world for their superior quality of its performances and artistic training. Opening the dancers and audiences eyes and minds to all the choreographic possibilities that lie ahead. The Edinburg Folklorico will be performing at the Tropic Winds RV Resort in Harlingen on the 8th of February at 4PM. Thank you for your time and hopefully we will see you there. Contact Info: (956) 607- 6858 edinburgfolklorico@gmail.com
X-ALT-DESC;FMTTYPE=text/html:We are the Edinburg Folklorico Dance Team. We have achieved a reputation throughout the dance world for their superior quality of its performances and artistic training. Opening the dancers and audiences eyes and minds to all the choreographic possibilities that lie ahead. The Edinburg Folklorico will be performing at the Tropic Winds RV Resort in Harlingen on the 8th of February at 4PM. Thank you for your time and hopefully we will see you there. Contact Info: (956) 607- 6858 edinburgfolklorico@gmail.com
LOCATION:1501 N Loop 499\, Harlingen\, TX 78550
UID:e.1294.30150
SEQUENCE:3
DTSTAMP:20260425T202444Z
URL:https://business.rgvpartnership.com/events/details/edinburg-folklorio-02-08-2015-30150
END:VEVENT

END:VCALENDAR
