BEGIN:VCALENDAR
VERSION:2.0
PRODID:-//ChamberMaster//Event Calendar 2.0//EN
METHOD:PUBLISH
X-PUBLISHED-TTL:P3D
REFRESH-INTERVAL:P3D
CALSCALE:GREGORIAN
BEGIN:VEVENT
DTSTART:20150707T133000Z
DTEND:20150710T193000Z
X-MICROSOFT-CDO-ALLDAYEVENT:FALSE
SUMMARY:Eco-Explorers Camp
DESCRIPTION:The Edinburg Scenic Wetlands and World Birding Center has a special camp for kids interested in nature. They can become Eco Explorers during a four day camp that will teach them about wetlands\, habitat\, animals and more through hands-on activities\, explorations\, games\, and crafts. This camp is designed to inspire curiosity and creativity and give children a chance to interact with nature. Participants will enjoy trips to Quinta Mazatlan and the Valley Nature Center for an in depth discovery of nature in other parts of the Rio Grande Valley. The Eco-Explorers Nature Camp is for children ages 6 to 9. It will run July 14th through July 17th from 8:30 am to 2:30 pm. The fee is $36 for Scenic Wetlands members and $44 for non-members. Snacks are provided\, though participants will need to bring a sack lunch. Space is limited so call ahead to register no later than one week prior to the start of camp. For more information call (956)381-9922 or visit www.edinburgwbc.org.
X-ALT-DESC;FMTTYPE=text/html:The Edinburg Scenic Wetlands and World Birding Center has a special camp for kids interested in nature. They can become Eco Explorers during a four day camp that will teach them about wetlands\, habitat\, animals and more through hands-on activities\, explorations\, games\, and crafts. This camp is designed to inspire curiosity and creativity and give children a chance to interact with nature. Participants will enjoy trips to Quinta Mazatlan and the Valley Nature Center for an in depth discovery of nature in other parts of the Rio Grande Valley. The Eco-Explorers Nature Camp is for children ages 6 to 9. It will run July 14th through July 17th from 8:30 am to 2:30 pm. The fee is $36 for Scenic Wetlands members and $44 for non-members. Snacks are provided\, though participants will need to bring a sack lunch. Space is limited so call ahead to register no later than one week prior to the start of camp. For more information call (956)381-9922 or visit www.edinburgwbc.org.
LOCATION:World Birding Center\, South Raul Longoria Road\, Edinburg\, TX\, United States
UID:e.1294.30194
SEQUENCE:3
DTSTAMP:20260422T095946Z
URL:https://business.rgvpartnership.com/events/details/eco-explorers-camp-07-07-2015-30194
END:VEVENT

END:VCALENDAR
