BEGIN:VCALENDAR
VERSION:2.0
PRODID:-//ChamberMaster//Event Calendar 2.0//EN
METHOD:PUBLISH
X-PUBLISHED-TTL:P3D
REFRESH-INTERVAL:P3D
CALSCALE:GREGORIAN
BEGIN:VEVENT
DTSTART:20160919T003000Z
DTEND:20160919T020000Z
X-MICROSOFT-CDO-ALLDAYEVENT:FALSE
SUMMARY:Early Music Festival
DESCRIPTION:Student Ensemble Series
X-ALT-DESC;FMTTYPE=text/html:Student Ensemble Series
LOCATION:TSC Arts Center 80 Fort Brown St. Brownsville\, TX. 78520
UID:e.1294.30306
SEQUENCE:3
DTSTAMP:20260424T144235Z
URL:https://business.rgvpartnership.com/events/details/early-music-festival-09-18-2016-30306
END:VEVENT

END:VCALENDAR
