BEGIN:VCALENDAR
VERSION:2.0
PRODID:-//ChamberMaster//Event Calendar 2.0//EN
METHOD:PUBLISH
X-PUBLISHED-TTL:P3D
REFRESH-INTERVAL:P3D
CALSCALE:GREGORIAN
BEGIN:VEVENT
DTSTART:20141108T160000Z
DTEND:20141108T170000Z
X-MICROSOFT-CDO-ALLDAYEVENT:FALSE
SUMMARY:Dragon Fruit - Past/Present and Future by Steven Michael Ramirez
DESCRIPTION:Everything you ever wanted to know about Dragon Fruit and how to eat it! Coffee and pastries will be served.
X-ALT-DESC;FMTTYPE=text/html:Everything you ever wanted to know about Dragon Fruit and how to eat it! Coffee and pastries will be served.
LOCATION:Valley Nature Center 301 South Border Ave Weslaco\, Texas 78596
UID:e.1294.30101
SEQUENCE:3
DTSTAMP:20260426T010124Z
URL:https://business.rgvpartnership.com/events/details/dragon-fruit-past-present-and-future-by-steven-michael-ramirez-11-08-2014-30101
END:VEVENT

END:VCALENDAR
