BEGIN:VCALENDAR
VERSION:2.0
PRODID:-//ChamberMaster//Event Calendar 2.0//EN
METHOD:PUBLISH
X-PUBLISHED-TTL:P3D
REFRESH-INTERVAL:P3D
CALSCALE:GREGORIAN
BEGIN:VEVENT
DTSTART:20160926T230000Z
DTEND:20160927T010000Z
X-MICROSOFT-CDO-ALLDAYEVENT:FALSE
SUMMARY:Donna School Board Slate "Restoring Trust" Town Hall Meeting
DESCRIPTION:Restoring Trust\, a slate of candidates for the Donna ISD School Board invite the public to attend a town hall meeting. A Q&A will occur the first hour\, followed by a Candidate mixer when the public can speak on a one to one with the Candidates on the slate.
X-ALT-DESC;FMTTYPE=text/html:Restoring Trust\, a slate of candidates for the Donna ISD School Board invite the public to attend a town hall meeting. A Q&amp\;A will occur the first hour\, followed by a Candidate mixer when the public can speak on a one to one with the Candidates on the slate.
LOCATION:Dolphin Motel Conference Room 2301 E. Hooks Ave. Donna\, TX 78537
UID:e.1294.30362
SEQUENCE:3
DTSTAMP:20260424T143949Z
URL:https://business.rgvpartnership.com/events/details/donna-school-board-slate-restoring-trust-town-hall-meeting-30362
END:VEVENT

END:VCALENDAR
