BEGIN:VCALENDAR
VERSION:2.0
PRODID:-//ChamberMaster//Event Calendar 2.0//EN
METHOD:PUBLISH
X-PUBLISHED-TTL:P3D
REFRESH-INTERVAL:P3D
CALSCALE:GREGORIAN
BEGIN:VEVENT
DTSTART:20160917T003000Z
DTEND:20160917T020000Z
X-MICROSOFT-CDO-ALLDAYEVENT:FALSE
SUMMARY:Dino Mulic\, piano
DESCRIPTION:Faculty Artist Series
X-ALT-DESC;FMTTYPE=text/html:Faculty Artist Series
LOCATION:TSC Arts Center 80 Fort Brown St. Brownsville\, TX 78526
UID:e.1294.30305
SEQUENCE:3
DTSTAMP:20260424T143402Z
URL:https://business.rgvpartnership.com/events/details/dino-mulic-piano-09-16-2016-30305
END:VEVENT

END:VCALENDAR
