BEGIN:VCALENDAR
VERSION:2.0
PRODID:-//ChamberMaster//Event Calendar 2.0//EN
METHOD:PUBLISH
X-PUBLISHED-TTL:P3D
REFRESH-INTERVAL:P3D
CALSCALE:GREGORIAN
BEGIN:VEVENT
DTSTART:20170215T013000Z
DTEND:20170215T030000Z
X-MICROSOFT-CDO-ALLDAYEVENT:FALSE
SUMMARY:Daniel Hunter-Holly\, baritone & Kenneth Saxon. piano
DESCRIPTION:A Secret Tone: Music of Beethoven and Schumann Faculty Artist Series
X-ALT-DESC;FMTTYPE=text/html:A Secret Tone: Music of Beethoven and Schumann Faculty Artist Series
LOCATION:TSC Arts Center 80 Fort Brown St. Brownsville. TX. 78521
UID:e.1294.30336
SEQUENCE:3
DTSTAMP:20260424T073023Z
URL:https://business.rgvpartnership.com/events/details/daniel-hunter-holly-baritone-kenneth-saxon-piano-02-14-2017-30336
END:VEVENT

END:VCALENDAR
