BEGIN:VCALENDAR
VERSION:2.0
PRODID:-//ChamberMaster//Event Calendar 2.0//EN
METHOD:PUBLISH
X-PUBLISHED-TTL:P3D
REFRESH-INTERVAL:P3D
CALSCALE:GREGORIAN
BEGIN:VEVENT
DTSTART:20141122T150000Z
DTEND:20141122T190000Z
X-MICROSOFT-CDO-ALLDAYEVENT:FALSE
SUMMARY:Congressional Veterans Summit
DESCRIPTION:U.S. Congressman Filemon Vela invites you to the 2nd Annual Congressional Veterans Summit.\n\nHealth Fair\, Job Fair and Resource Fair
X-ALT-DESC;FMTTYPE=text/html:U.S. Congressman Filemon Vela invites you to the 2nd Annual Congressional Veterans Summit.<br />\nHealth Fair\, Job Fair and Resource Fair<br />\n&nbsp\;
LOCATION:International Technology\, Education and Commerce Center (ITECC) (Formerly known as Amigoland Mall) 301 Mexico Blvd. Brownsville\, TX 78520
UID:e.1294.30109
SEQUENCE:3
DTSTAMP:20260426T010125Z
URL:https://business.rgvpartnership.com/events/details/congressional-veterans-summit-11-22-2014-30109
END:VEVENT

END:VCALENDAR
