BEGIN:VCALENDAR
VERSION:2.0
PRODID:-//ChamberMaster//Event Calendar 2.0//EN
METHOD:PUBLISH
X-PUBLISHED-TTL:P3D
REFRESH-INTERVAL:P3D
CALSCALE:GREGORIAN
BEGIN:VEVENT
DTSTART:20141101T130000Z
DTEND:20141101T180000Z
X-MICROSOFT-CDO-ALLDAYEVENT:FALSE
SUMMARY:Color Me Loco 5k Run/Walk
DESCRIPTION:Come join us for a fun family oriented event on November 1\, 2014. Eight parts color\, one part 5k\, 100% LOCO!!!
X-ALT-DESC;FMTTYPE=text/html:Come join us for a fun family oriented event on November 1\, 2014. Eight parts color\, one part 5k\, 100% LOCO!!!
LOCATION:In front of costco 1501 W. Kelly Pharr\, TX
UID:e.1294.30090
SEQUENCE:3
DTSTAMP:20260426T010354Z
URL:https://business.rgvpartnership.com/events/details/color-me-loco-5k-run-walk-11-01-2014-30090
END:VEVENT

END:VCALENDAR
