BEGIN:VCALENDAR
VERSION:2.0
PRODID:-//ChamberMaster//Event Calendar 2.0//EN
METHOD:PUBLISH
X-PUBLISHED-TTL:P3D
REFRESH-INTERVAL:P3D
CALSCALE:GREGORIAN
BEGIN:VEVENT
DTSTART:20161115T013000Z
DTEND:20161115T030000Z
X-MICROSOFT-CDO-ALLDAYEVENT:FALSE
SUMMARY:Clarinet Studio Recital
DESCRIPTION:
X-ALT-DESC;FMTTYPE=text/html:
LOCATION:TSC Arts Center 80 Fort Brown St. Brownsville\, TX. 78526
UID:e.1294.30324
SEQUENCE:3
DTSTAMP:20260424T113902Z
URL:https://business.rgvpartnership.com/events/details/clarinet-studio-recital-11-14-2016-30324
END:VEVENT

END:VCALENDAR
