BEGIN:VCALENDAR
VERSION:2.0
PRODID:-//ChamberMaster//Event Calendar 2.0//EN
METHOD:PUBLISH
X-PUBLISHED-TTL:P3D
REFRESH-INTERVAL:P3D
CALSCALE:GREGORIAN
BEGIN:VEVENT
DTSTART:20160711T140000Z
DTEND:20160715T200000Z
X-MICROSOFT-CDO-ALLDAYEVENT:FALSE
SUMMARY:Children's Museum of Brownsville
DESCRIPTION:Jedi Masters Summer Camp. At Jedi Masters Camp\, your young Jedi will learn the ways of the Force. Campers will play games\, hold competitions\, enjoy crafts\, create costumes\, and so much more.
X-ALT-DESC;FMTTYPE=text/html:Jedi Masters Summer Camp. At Jedi Masters Camp\, your young Jedi will learn the ways of the Force. Campers will play games\, hold competitions\, enjoy crafts\, create costumes\, and so much more.
LOCATION:Children's Museum of Brownsville 501 E. Ringgold Street #5 Dean Porter Park Brownsville\, TX 78520
UID:e.1294.30297
SEQUENCE:3
DTSTAMP:20260424T172247Z
URL:https://business.rgvpartnership.com/events/details/children-s-museum-of-brownsville-07-11-2016-30297
END:VEVENT

END:VCALENDAR
