BEGIN:VCALENDAR
VERSION:2.0
PRODID:-//ChamberMaster//Event Calendar 2.0//EN
METHOD:PUBLISH
X-PUBLISHED-TTL:P3D
REFRESH-INTERVAL:P3D
CALSCALE:GREGORIAN
BEGIN:VEVENT
DTSTART:20160705T140000Z
DTEND:20160708T200000Z
X-MICROSOFT-CDO-ALLDAYEVENT:FALSE
SUMMARY:Children's Museum of Brownsville
DESCRIPTION:Once Upon A Time Summer Camp. At the Children's Museum of Brownsville fairy tales really do come true! Your prince or princess will spend the week preparing for a royal tea party. They will make the decorations\, food\, and costumes and Sharkey's Hair It Is will come to do everyone's hair\, makeup\, and nails on the day of the party. Campers will receive etiquette lessons\, and complete a service project.
X-ALT-DESC;FMTTYPE=text/html:Once Upon A Time Summer Camp. At the Children&rsquo\;s Museum of Brownsville fairy tales really do come true! Your prince or princess will spend the week preparing for a royal tea party. They will make the decorations\, food\, and costumes and Sharkey&rsquo\;s Hair It Is will come to do everyone&rsquo\;s hair\, makeup\, and nails on the day of the party. Campers will receive etiquette lessons\, and complete a service project.
LOCATION:Children's Museum of Brownsville 501 E. Ringgold Street #5 Dean Porter Park Brownsville\, TX 78520
UID:e.1294.30296
SEQUENCE:3
DTSTAMP:20260424T172417Z
URL:https://business.rgvpartnership.com/events/details/children-s-museum-of-brownsville-07-05-2016-30296
END:VEVENT

END:VCALENDAR
