BEGIN:VCALENDAR
VERSION:2.0
PRODID:-//ChamberMaster//Event Calendar 2.0//EN
METHOD:PUBLISH
X-PUBLISHED-TTL:P3D
REFRESH-INTERVAL:P3D
CALSCALE:GREGORIAN
BEGIN:VEVENT
DTSTART:20160810T230000Z
DTEND:20160811T020000Z
X-MICROSOFT-CDO-ALLDAYEVENT:FALSE
SUMMARY:Childbirth Education Mini Series
DESCRIPTION:Blissful Baby is here to guide you through childbirth with classes from a CAPPA Childbirth Educator. Mini Series - 3 hrs: Stages of Labor and Comfort Techniques for each Stage (Visual & Hands On) Cost for class is $50 per couple. We take your schedule under consideration and form custom classes as well. 3 Couples Max per Series
X-ALT-DESC;FMTTYPE=text/html:Blissful Baby is here to guide you through childbirth with classes from a CAPPA Childbirth Educator. Mini Series - 3 hrs: Stages of Labor and Comfort Techniques for each Stage (Visual &amp\; Hands On) Cost for class is $50 per couple. We take your schedule under consideration and form custom classes as well. 3 Couples Max per Series
LOCATION:Blissful Baby 4811 S Jackson Rd Edinburg\, TX 78539
UID:e.1294.30302
SEQUENCE:3
DTSTAMP:20260424T155225Z
URL:https://business.rgvpartnership.com/events/details/childbirth-education-mini-series-08-10-2016-30302
END:VEVENT

END:VCALENDAR
