BEGIN:VCALENDAR
VERSION:2.0
PRODID:-//ChamberMaster//Event Calendar 2.0//EN
METHOD:PUBLISH
X-PUBLISHED-TTL:P3D
REFRESH-INTERVAL:P3D
CALSCALE:GREGORIAN
BEGIN:VEVENT
DTSTART:20160705T140000Z
DTEND:20160705T153000Z
X-MICROSOFT-CDO-ALLDAYEVENT:FALSE
SUMMARY:Child Passenger Safety Education
DESCRIPTION:Keep your little one safe during travels! Learn the proper way to secure your bundle of joy in his/her car seat! This is a great class for anyone who travels with children in tow\, including Grandparents! Nancy\, a Certified Passenger Technician\, will present Child Passenger Education with hands on demos. (Refreshments and Snacks will be provided) $20 couple Still not sure if your car seat is in the proper position? 1 complimentary car seat check will be provided per registered couple\, with each additional child $10.
X-ALT-DESC;FMTTYPE=text/html:Keep your little one safe during travels! Learn the proper way to secure your bundle of joy in his/her car seat! This is a great class for anyone who travels with children in tow\, including Grandparents! Nancy\, a Certified Passenger Technician\, will present Child Passenger Education with hands on demos. (Refreshments and Snacks will be provided) $20 couple Still not sure if your car seat is in the proper position? 1 complimentary car seat check will be provided per registered couple\, with each additional child $10.
LOCATION:Blissful Baby 4811 S Jackson Rd Edinburg\, TX 78539
UID:e.1294.30293
SEQUENCE:3
DTSTAMP:20260424T172003Z
URL:https://business.rgvpartnership.com/events/details/child-passenger-safety-education-07-05-2016-30293
END:VEVENT

END:VCALENDAR
