BEGIN:VCALENDAR
VERSION:2.0
PRODID:-//ChamberMaster//Event Calendar 2.0//EN
METHOD:PUBLISH
X-PUBLISHED-TTL:P3D
REFRESH-INTERVAL:P3D
CALSCALE:GREGORIAN
BEGIN:VEVENT
DTSTART:20170401T003000Z
DTEND:20170401T020000Z
X-MICROSOFT-CDO-ALLDAYEVENT:FALSE
SUMMARY:Celebrating Chopin Piano Concert
DESCRIPTION:Faculty Artist Series
X-ALT-DESC;FMTTYPE=text/html:Faculty Artist Series
LOCATION:TSC Arts Center 80 Fort Brown St. Brownsville\, TX 78520
UID:e.1294.30340
SEQUENCE:3
DTSTAMP:20260424T054700Z
URL:https://business.rgvpartnership.com/events/details/celebrating-chopin-piano-concert-03-31-2017-30340
END:VEVENT

END:VCALENDAR
