BEGIN:VCALENDAR
VERSION:2.0
PRODID:-//ChamberMaster//Event Calendar 2.0//EN
METHOD:PUBLISH
X-PUBLISHED-TTL:P3D
REFRESH-INTERVAL:P3D
CALSCALE:GREGORIAN
BEGIN:VEVENT
DTSTART;VALUE=DATE:20170816
DTEND;VALUE=DATE:20170923
TRANSP:TRANSPARENT
X-MICROSOFT-CDO-ALLDAYEVENT:TRUE
SUMMARY:Celebrating 20 years of little miracles
DESCRIPTION:After 20 years serving the families of hospitalized children\, the Ronald McDonald House of RGV is getting a gorgeous new look\, thanks to La-Z-Boy of McAllen. To celebrate the September 21 "big reveal"\, La-Z-Boy will give a $2\,000 mini-makeover to a lucky "someone" who comes in to our store and donates at least $1 to the Ronald McDonald House of the RGV. See store for details!
X-ALT-DESC;FMTTYPE=text/html:After 20 years serving the families of hospitalized children\, the Ronald McDonald House of RGV is getting a gorgeous new look\, thanks to La-Z-Boy of McAllen. To celebrate the September 21 &quot\;big reveal&quot\;\, La-Z-Boy will give a $2\,000 mini-makeover to a lucky &quot\;someone&quot\; who comes in to our store and donates at least $1 to the Ronald McDonald House of the RGV. See store for details!
LOCATION:La-Z-Boy of McAllen 4001 West Expressway 83\, McAllen\, Texas 78501
UID:e.1294.30392
SEQUENCE:3
DTSTAMP:20260423T211740Z
URL:https://business.rgvpartnership.com/events/details/celebrating-20-years-of-little-miracles-30392
END:VEVENT

END:VCALENDAR
