BEGIN:VCALENDAR
VERSION:2.0
PRODID:-//ChamberMaster//Event Calendar 2.0//EN
METHOD:PUBLISH
X-PUBLISHED-TTL:P3D
REFRESH-INTERVAL:P3D
CALSCALE:GREGORIAN
BEGIN:VEVENT
DTSTART:20160323T210000Z
DTEND:20160323T230000Z
X-MICROSOFT-CDO-ALLDAYEVENT:FALSE
SUMMARY:Celebrate National Tamale Day with a Cooking Demonstration
DESCRIPTION:The Brownsville Convention & Visitors Bureau (BCVB) along with Anita?s Gourmet will be hosting a tamale cooking demonstration in celebration of National Tamale Day. The demonstration will include which ingredients to use\, how to prepare them\, and how to cook them. Anita?s Gourmet Tortilleria y? Comida is the oldest Tortillera in Brownsville\, established in 1953\, having authentic Mexican Tamales using only the freshest ingredients without any preservatives. Tamales are a wonderful food\, enjoyed by millions of Americans. Join us in celebrating National Tamale Day on March 23rd.
X-ALT-DESC;FMTTYPE=text/html:The Brownsville Convention &amp\; Visitors Bureau (BCVB) along with Anita?s Gourmet will be hosting a tamale cooking demonstration in celebration of National Tamale Day. The demonstration will include which ingredients to use\, how to prepare them\, and how to cook them. Anita?s Gourmet Tortilleria y? Comida is the oldest Tortillera in Brownsville\, established in 1953\, having authentic Mexican Tamales using only the freshest ingredients without any preservatives. Tamales are a wonderful food\, enjoyed by millions of Americans. Join us in celebrating National Tamale Day on March 23rd.
LOCATION:Brownsville Bike Barn 624 E Madison St Brownsville\, TX 78520 USA
UID:e.1294.30285
SEQUENCE:3
DTSTAMP:20260424T230151Z
URL:https://business.rgvpartnership.com/events/details/celebrate-national-tamale-day-with-a-cooking-demonstration-03-23-2016-30285
END:VEVENT

END:VCALENDAR
